BEGIN:VCALENDAR
VERSION:2.0
PRODID:-//Decatur County Memorial Hospital - ECPv5.9.1//NONSGML v1.0//EN
CALSCALE:GREGORIAN
METHOD:PUBLISH
X-WR-CALNAME:Decatur County Memorial Hospital
X-ORIGINAL-URL:https://www.dcmh.net
X-WR-CALDESC:Events for Decatur County Memorial Hospital
BEGIN:VTIMEZONE
TZID:America/Indiana/Indianapolis
BEGIN:DAYLIGHT
TZOFFSETFROM:-0500
TZOFFSETTO:-0400
TZNAME:EDT
DTSTART:20260308T070000
END:DAYLIGHT
BEGIN:STANDARD
TZOFFSETFROM:-0400
TZOFFSETTO:-0500
TZNAME:EST
DTSTART:20261101T060000
END:STANDARD
END:VTIMEZONE
BEGIN:VEVENT
DTSTART;TZID=America/Indiana/Indianapolis:20260701T120000
DTEND;TZID=America/Indiana/Indianapolis:20260701T160000
DTSTAMP:20260423T005739
CREATED:20251104T135954Z
LAST-MODIFIED:20251119T142932Z
UID:15333-1782907200-1782921600@www.dcmh.net
SUMMARY:2026 BLS CPR Class
DESCRIPTION:Decatur County Memorial Hospital will be offering CPR classes for first responders and health care providers available to the public in conjunction with the Decatur County YMCA. All classes are American Heart Association BLS courses. For questions or for more information\, please call 812-663-1177. \nTo Register\, click here. \nThis class is intended for first responders\, police and health care providers. This IS NOT the correct course for teachers\, day care providers or other lay providers. \nIf you are looking for a Heart Saver CPR course for the general public\, please return to the Events page and look for Heart Saver courses. \n  \n \nThe American Heart Association strongly promotes knowledge and proficiency in all AHA courses and has developed instructional materials for this purpose. Use of these materials in an educational course does not represent course sponsorship by the AHA. Any fee charged for such a course\, except for a portion of fees needed for the AHA course materials\, do not represent income to the AHA.
URL:https://www.dcmh.net/event/2026-bls-cpr-class/
LOCATION:HealthConnect\, 1 YMCA Way\, Greensburg\, 47240
CATEGORIES:Health Education Event
ATTACH;FMTTYPE=image/png:https://www.dcmh.net/wp-content/uploads/BLS-CPR.png
END:VEVENT
END:VCALENDAR