BEGIN:VCALENDAR
VERSION:2.0
PRODID:-//Decatur County Memorial Hospital - ECPv5.9.1//NONSGML v1.0//EN
CALSCALE:GREGORIAN
METHOD:PUBLISH
X-WR-CALNAME:Decatur County Memorial Hospital
X-ORIGINAL-URL:https://www.dcmh.net
X-WR-CALDESC:Events for Decatur County Memorial Hospital
BEGIN:VTIMEZONE
TZID:America/Indiana/Indianapolis
BEGIN:DAYLIGHT
TZOFFSETFROM:-0500
TZOFFSETTO:-0400
TZNAME:EDT
DTSTART:20250309T070000
END:DAYLIGHT
BEGIN:STANDARD
TZOFFSETFROM:-0400
TZOFFSETTO:-0500
TZNAME:EST
DTSTART:20251102T060000
END:STANDARD
END:VTIMEZONE
BEGIN:VEVENT
DTSTART;TZID=America/Indiana/Indianapolis:20250507T100000
DTEND;TZID=America/Indiana/Indianapolis:20250507T120000
DTSTAMP:20260424T132644
CREATED:20241122T151047Z
LAST-MODIFIED:20241122T151540Z
UID:13590-1746612000-1746619200@www.dcmh.net
SUMMARY:Diabetes Education - May Classes
DESCRIPTION:Diabetes can be controlled and the progression of complications delayed with an individual treatment program that includes diet\, exercise\, and/or medication. \nDiabetes classes offered at Decatur County Memorial Hospital are designed to teach the person with diabetes and his/her family more about the disease and how to implement lifestyle changes to avoid complications. A Registered Dietitian and a Certified Diabetes Care and Education Specialist (CDCES) Pharmacist teach sessions each quarter that follow curriculum standards of the Association of Diabetes Care and Education Specialists (ADCES) Diabetes Education Accreditation Program (DEAP). \n\n\n\n\nClass Topics Include: \n\nOverview of diabetes\nHealthy eating with a focus on: Meal planning\, portion control\, food and nutrient groups\, restaurant eating\, carbohydrate counting\, and much more!\nRole of exercise in treatment\nMedications available to treat diabetes\nBlood glucose testing and monitoring\nWays to reduce risks for short and long-term complications\nProblem solving and goal setting\n\n\n\n\n\n\nEach session consists of a series of three – two-hour classes and registration is required to attend the classes. Classes are covered by most insurance companies. Please call your insurance company for coverage details. \n\n\n\n\nTo register or for more information\, call 812-663-1341. You must register in order to participate in the class. Your insurance will be billed for the cost of the class. \n\nAdditional Resources:\nAssess your Risk for Prediabetes Test\n\n\n\n\nPrediabetes Fact Sheet
URL:https://www.dcmh.net/event/diabetes-education-may-classes/2025-05-07/
LOCATION:DCMH OB Conference Room\, 720 N Lincoln St\, Greensburg\, IN\, 47240\, United States
CATEGORIES:Health Education Event,Nutrition Education Event
ATTACH;FMTTYPE=image/png:https://www.dcmh.net/wp-content/uploads/2025-DEAP-Classes-Post.png
GEO:39.3440127;-85.4786454
X-APPLE-STRUCTURED-LOCATION;VALUE=URI;X-ADDRESS=DCMH OB Conference Room 720 N Lincoln St Greensburg IN 47240 United States;X-APPLE-RADIUS=500;X-TITLE=720 N Lincoln St:geo:-85.4786454,39.3440127
END:VEVENT
END:VCALENDAR